BEGIN:VCALENDAR
VERSION:2.0
PRODID:-//wp-events-plugin.com//6.6.1//EN
TZID:Europe/Madrid
X-WR-TIMEZONE:Europe/Madrid
BEGIN:VEVENT
UID:20494@semanadelacienciacyl.accionlab.net
DTSTART;TZID=Europe/Madrid:20231114T120000
DTEND;TZID=Europe/Madrid:20231114T140000
DTSTAMP:20231027T123000Z
URL:https://semanadelacienciacyl.accionlab.net/events/visitas-educativas-4
 /
SUMMARY:Visitas educativas
DESCRIPTION:Visitas guiadas de centros educativos a los laboratorios del CE
 NIEH - Ya no quedan plazas - \n\nINFORMACIÓN Y RESERVAS: 947040800\nORGA
 NIZA: Centro Nacional de Investigación sobre la Evolución Humana (CENIEH
 )\nDIRIGIDO A:Estudiantes de ESO\, Bachillerato y Formación Profesional\n
 \n\n\n\n
CATEGORIES:Estudiantes de ESO, Bachillerato, Ciclos Formativos
LOCATION:CENIEH\, P.º Sierra de Atapuerca\, 3\, Burgos\, Burgos\, 09002\, 
 España
GEO:42.340526;-3.69456
X-APPLE-STRUCTURED-LOCATION;VALUE=URI;X-ADDRESS=P.º Sierra de Atapuerca\, 
 3\, Burgos\, Burgos\, 09002\, España;X-APPLE-RADIUS=100;X-TITLE=CENIEH:ge
 o:42.340526,-3.69456
END:VEVENT
BEGIN:VTIMEZONE
TZID:Europe/Madrid
X-LIC-LOCATION:Europe/Madrid
BEGIN:STANDARD
DTSTART:20231029T020000
TZOFFSETFROM:+0200
TZOFFSETTO:+0100
TZNAME:CET
END:STANDARD
END:VTIMEZONE
END:VCALENDAR