BEGIN:VCALENDAR
VERSION:2.0
PRODID:-//wp-events-plugin.com//6.6.1//EN
TZID:Europe/Madrid
X-WR-TIMEZONE:Europe/Madrid
BEGIN:VEVENT
UID:20746@semanadelacienciacyl.accionlab.net
DTSTART;TZID=Europe/Madrid:20231114T090000
DTEND;TZID=Europe/Madrid:20231114T111500
DTSTAMP:20231102T083953Z
URL:https://semanadelacienciacyl.accionlab.net/events/ratones-y-medicina-2
 /
SUMMARY:Ratones y medicina
DESCRIPTION:Para celebrar la Semana de la Ciencia\, el Centro de Investigac
 ión del Cáncer retoma un año más la actividad Ratones y medicina\, do
 nde profundizamos en la investigación con modelos animales.\n\nRatones y 
 medicina comienza con una introducción y debate bioético de la investig
 ación con ratones\, en el salón de actos del Centro de Investigación de
 l Cáncer. Esta charla/debate\, se complementa con dos visitas guiadas al 
 Animalario OMG de la Universidad de Salamanca y al Servicio de Patología 
 Molecular Comparada del Centro de Investigación del Cáncer.\n\nLa activi
 dad está dirigida a estudiantes de secundaria/bachillerato y universitar
 ios\, así como a asociaciones.\n\nSe celebrará el 13\, 14\, 16 de novie
 mbre comenzará a las 9:00 h. y finalizará aproximadamente a las 11:15 h
 oras.\n\nPrograma:\n\n1) Introducción y debate (bioético) sobre el uso d
 e animales en investigación biomédica (9:00-9:40 horas)\n\n2) Visitas al
  animalario OMG de la Universidad de Salamanca y servicio de Patología Mo
 lecular Comparada del Centro de Investigación del Cáncer (de 9:45 a 10:3
 0 y de 10:30 a 11:15 horas).\n\nPara facilitar la visita y poder acceder a
  las instalaciones del animalario y al servicio de Patología Molecular Co
 mparada:\n\nEl grupo que ha participado en la introducción y debate será
  dividido en dos grupos (A y B).\n\nDe esta manera\, en el primer turno de
  9:45 a 10:30 horas el grupo A (como máximo 15 personas) visitará el Ani
 malario OMG de la Universidad de Salamanca y el grupo B (máximo quince pe
 rsonas) visitará el el Servicio de Patología Molecular Comparada del Cen
 tro de Investigación del Cáncer.\n\nMientras que de 10:30 a 11:15 horas 
 el grupo A visitará el Servicio de Patología Molecular Comparada del Cen
 tro de Investigación del Cáncer y el grupo B accederá a las instalacion
 es del Animalario OMG de la Universidad de Salamanca.\n\n&nbsp\;\n\nObjeti
 vo comprender por qué en determinadas fases de la investigación del cán
 cer se requiere trabajar con ratones\, conocer cómo son las instalaciones
  en las que son estabulados y cómo se procesan las muestras de la investi
 gación.\n\nPara participar en la actividad Ratones y medicina se requier
 e reserva previa. Los grupos interesados\, que no podrán superar las 30 p
 ersonas\, deberán escribir previamente a informacion_cic@usal.es para sol
 icitar y confirmar la disponibilidad.\n\n&nbsp\;\n\nLos grupos se tendrán
  que confirmar previamente y no podrán superar los 30 alumnos\n\nINFORMAC
 IÓN: informacion_cic@usal.es - https://www.cicancer.org/science-society/c
 ic-news/ratones-y-medicina-semana-de-la-ciencia-2023 -\nORGANIZA: Centro d
 e Investigación del Cáncer y Animalario OMG de la Universidad de Salaman
 ca\nDIRIGIDO A:Estudiantes de ESO\, Bachillerato y Formación Profesional
CATEGORIES:Estudiantes de ESO, Bachillerato, Ciclos Formativos
LOCATION:Centro de Investigación del Cáncer (CIC)\, Calle Campus Miguel d
 e Unamuno\, Salamanca\, Salamanca\, 37007\, España
GEO:40.967784;-5.677846
X-APPLE-STRUCTURED-LOCATION;VALUE=URI;X-ADDRESS=Calle Campus Miguel de Unam
 uno\, Salamanca\, Salamanca\, 37007\, España;X-APPLE-RADIUS=100;X-TITLE=C
 entro de Investigación del Cáncer (CIC):geo:40.967784,-5.677846
END:VEVENT
BEGIN:VTIMEZONE
TZID:Europe/Madrid
X-LIC-LOCATION:Europe/Madrid
BEGIN:STANDARD
DTSTART:20231029T020000
TZOFFSETFROM:+0200
TZOFFSETTO:+0100
TZNAME:CET
END:STANDARD
END:VTIMEZONE
END:VCALENDAR