BEGIN:VCALENDAR
VERSION:2.0
PRODID:-//wp-events-plugin.com//6.6.1//EN
TZID:Europe/Madrid
X-WR-TIMEZONE:Europe/Madrid
BEGIN:VEVENT
UID:20611@semanadelacienciacyl.accionlab.net
DTSTART;TZID=Europe/Madrid:20231116T083000
DTEND;TZID=Europe/Madrid:20231116T210000
DTSTAMP:20231030T224358Z
URL:https://semanadelacienciacyl.accionlab.net/events/objetos-para-la-doce
 ncia-y-la-investigacion-en-la-upsa-ayer-y-hoy-4/
SUMMARY:Objetos para la docencia y la investigación en la UPSA. Ayer y hoy
DESCRIPTION:Exposición de piezas y materiales docentes antiguos utilizados
  en facultades y departamentos de la UPSA recopilados y conservados en el 
 Servicio de Biblioteca y Archivo\n\nINFORMACIÓN Y RESERVAS: 923277134 - U
 niversidad Pontificia de Salamanca\nORGANIZA: Universidad Pontificia de Sa
 lamanca\nDIRIGIDO A: Público general\n\nUBICACIÓN: Universidad Pontifici
 a de Salamanca\, C/Henry Collet\, 81-85. Biblioteca Campus Champagnat
CATEGORIES:Público General
LOCATION:Universidad Pontificia de Salamanca\, Calle Compañía\, 5\, Salam
 anca\, Salamanca\, 37002 \, Castilla y León\, España
GEO:40.963557;-5.666339
X-APPLE-STRUCTURED-LOCATION;VALUE=URI;X-ADDRESS=Calle Compañía\, 5\, Sala
 manca\, Salamanca\, 37002 \, Castilla y León\, España;X-APPLE-RADIUS=100
 ;X-TITLE=Universidad Pontificia de Salamanca:geo:40.963557,-5.666339
END:VEVENT
BEGIN:VTIMEZONE
TZID:Europe/Madrid
X-LIC-LOCATION:Europe/Madrid
BEGIN:STANDARD
DTSTART:20231029T020000
TZOFFSETFROM:+0200
TZOFFSETTO:+0100
TZNAME:CET
END:STANDARD
END:VTIMEZONE
END:VCALENDAR