BEGIN:VCALENDAR
VERSION:2.0
PRODID:-//wp-events-plugin.com//6.6.1//EN
TZID:Europe/Madrid
X-WR-TIMEZONE:Europe/Madrid
BEGIN:VEVENT
UID:20496@semanadelacienciacyl.accionlab.net
DTSTART;TZID=Europe/Madrid:20231116T170000
DTEND;TZID=Europe/Madrid:20231116T180000
DTSTAMP:20231027T125432Z
URL:https://semanadelacienciacyl.accionlab.net/events/laboratorio-del-rato
 n-perez/
SUMMARY:Laboratorio del Ratón Pérez
DESCRIPTION:Ubicación: CENIEH\, Paseo Sierra de Atapuerca 3\, Salas de Sem
 inarios A y B
CATEGORIES:Estudiantes de infantil y primaria
LOCATION:CENIEH\, P.º Sierra de Atapuerca\, 3\, Burgos\, Burgos\, 09002\, 
 España
GEO:42.340526;-3.69456
X-APPLE-STRUCTURED-LOCATION;VALUE=URI;X-ADDRESS=P.º Sierra de Atapuerca\, 
 3\, Burgos\, Burgos\, 09002\, España;X-APPLE-RADIUS=100;X-TITLE=CENIEH:ge
 o:42.340526,-3.69456
END:VEVENT
BEGIN:VTIMEZONE
TZID:Europe/Madrid
X-LIC-LOCATION:Europe/Madrid
BEGIN:STANDARD
DTSTART:20231029T020000
TZOFFSETFROM:+0200
TZOFFSETTO:+0100
TZNAME:CET
END:STANDARD
END:VTIMEZONE
END:VCALENDAR