BEGIN:VCALENDAR
VERSION:2.0
PRODID:-//wp-events-plugin.com//6.6.1//EN
TZID:Europe/Madrid
X-WR-TIMEZONE:Europe/Madrid
BEGIN:VEVENT
UID:20749@semanadelacienciacyl.accionlab.net
DTSTART;TZID=Europe/Madrid:20231114T090000
DTEND;TZID=Europe/Madrid:20231114T110000
DTSTAMP:20231105T175902Z
URL:https://semanadelacienciacyl.accionlab.net/events/la-prevencion-es-la-
 llave/
SUMMARY:La prevención es la llave
DESCRIPTION:Escape-room para conocer las causas de los incendios forestales
 \, los efectos sobre los ecosistemas\, cómo prevenirlos y cómo actuar en
  caso de incendio.\n\nPúblico ya concertado.\n\nINFORMACIÓN Y RESERVAS: 
 flor.alvarez@unileon.es\n\nORGANIZA: Universidad de León (Campus de Ponfe
 rrada)\n\nDIRIGIDO A: Estudiantes de Primaria.
LOCATION:Campus de Ponferrada\, Aula 306\, Edificio A\, Avenida de Astorga\
 , s/n \, Ponferrada\, León\, 24401 \, Castilla y León\, España
GEO:42.549815;-6.582059
X-APPLE-STRUCTURED-LOCATION;VALUE=URI;X-ADDRESS=Avenida de Astorga\, s/n \,
  Ponferrada\, León\, 24401 \, Castilla y León\, España;X-APPLE-RADIUS=1
 00;X-TITLE=Campus de Ponferrada\, Aula 306\, Edificio A:geo:42.549815,-6.5
 82059
END:VEVENT
BEGIN:VTIMEZONE
TZID:Europe/Madrid
X-LIC-LOCATION:Europe/Madrid
BEGIN:STANDARD
DTSTART:20231029T020000
TZOFFSETFROM:+0200
TZOFFSETTO:+0100
TZNAME:CET
END:STANDARD
END:VTIMEZONE
END:VCALENDAR