BEGIN:VCALENDAR
VERSION:2.0
PRODID:-//wp-events-plugin.com//6.6.1//EN
TZID:Europe/Madrid
X-WR-TIMEZONE:Europe/Madrid
BEGIN:VEVENT
UID:20679@semanadelacienciacyl.accionlab.net
DTSTART;TZID=Europe/Madrid:20231117T160000
DTEND;TZID=Europe/Madrid:20231117T200000
DTSTAMP:20231031T105437Z
URL:https://semanadelacienciacyl.accionlab.net/events/game-of-physics-3/
SUMMARY:Game of Physics
DESCRIPTION:Un taller interactivo que realiza un viaje por las ramas de la 
 física\n\nSe recomienda que los alumnos de ESO sean a partir del tercer c
 urso para que puedan comprender y disfrutar de los experimentos\n\nINFORMA
 CIÓN Y RESERVAS: physicsleague.asoc@gmail.com\nORGANIZA: Physics League\n
 DIRIGIDO A: Estudiantes de ESO\, Bachillerato y Formación Profesional
CATEGORIES:Público Universitario
LOCATION:Facultad de Ciencias\, Aulario Campus Miguel Delibes.\, Paseo Bel
 én\, 9\, Valladolid\, Valladolid\, 47011\, España
GEO:41.664216;-4.7042
X-APPLE-STRUCTURED-LOCATION;VALUE=URI;X-ADDRESS=Paseo Belén\, 9\, Valladol
 id\, Valladolid\, 47011\, España;X-APPLE-RADIUS=100;X-TITLE=Facultad de C
 iencias\, Aulario Campus Miguel Delibes.:geo:41.664216,-4.7042
END:VEVENT
BEGIN:VTIMEZONE
TZID:Europe/Madrid
X-LIC-LOCATION:Europe/Madrid
BEGIN:STANDARD
DTSTART:20231029T020000
TZOFFSETFROM:+0200
TZOFFSETTO:+0100
TZNAME:CET
END:STANDARD
END:VTIMEZONE
END:VCALENDAR