BEGIN:VCALENDAR
VERSION:2.0
PRODID:-//wp-events-plugin.com//6.6.1//EN
TZID:Europe/Madrid
X-WR-TIMEZONE:Europe/Madrid
BEGIN:VEVENT
UID:20570@semanadelacienciacyl.accionlab.net
DTSTART;TZID=Europe/Madrid:20231116T100000
DTEND;TZID=Europe/Madrid:20231116T130000
DTSTAMP:20231030T183234Z
URL:https://semanadelacienciacyl.accionlab.net/events/exposicion-paleantro
 pologia-y-arqueologia-en-castilla-y-leon/
SUMMARY:Exposición: Paleantropología y Arqueología en Castilla y León
DESCRIPTION:Exposición comentada sobre el proceso de hominización y de ev
 olución tecnológica humana. Se expondrán reproducciones de restos fósi
 les de diferentes especies de homínidos\, así como elementos de tecnolog
 ía lítica y textil. Explicaciones a cargo del profesorado del Grado en A
 ntropología.\n\n&nbsp\;\n\nINFORMACIÓN Y RESERVAS: 979 10 84 83\nORGANIZ
 A: Grado de Antropología Social y Cultural de la Universidad de Valladoli
 d.\nDIRIGIDO A:Estudiantes de ESO\, Bachillerato y Formación Profesional
CATEGORIES:Estudiantes de ESO, Bachillerato, Ciclos Formativos
LOCATION:Salón de Grados de la Facultad de Educación. (La Yutera)\, Av. d
 e Madrid\, s/n\, Palencia\, Palencia\, 34004\, España
GEO:41.995855;-4.521655
X-APPLE-STRUCTURED-LOCATION;VALUE=URI;X-ADDRESS=Av. de Madrid\, s/n\, Palen
 cia\, Palencia\, 34004\, España;X-APPLE-RADIUS=100;X-TITLE=Salón de Grad
 os de la Facultad de Educación. (La Yutera):geo:41.995855,-4.521655
END:VEVENT
BEGIN:VTIMEZONE
TZID:Europe/Madrid
X-LIC-LOCATION:Europe/Madrid
BEGIN:STANDARD
DTSTART:20231029T020000
TZOFFSETFROM:+0200
TZOFFSETTO:+0100
TZNAME:CET
END:STANDARD
END:VTIMEZONE
END:VCALENDAR