BEGIN:VCALENDAR
VERSION:2.0
PRODID:-//wp-events-plugin.com//6.6.1//EN
TZID:Europe/Madrid
X-WR-TIMEZONE:Europe/Madrid
BEGIN:VEVENT
UID:20667@semanadelacienciacyl.accionlab.net
DTSTART;TZID=Europe/Madrid:20231114T163000
DTEND;TZID=Europe/Madrid:20231114T183000
DTSTAMP:20231031T100058Z
URL:https://semanadelacienciacyl.accionlab.net/events/etiquetas-y-distinti
 vos-de-sostenibilidad-sabes-identificarlos-2/
SUMMARY:Etiquetas y distintivos de sostenibilidad: ¿sabes identificarlos?
DESCRIPTION:Se realizará un taller práctico para que los asistentes apren
 dan a identificar etiquetas de sostenibilidad y a diferenciarlas de otros 
 reclamos comerciales no oficiales. Se recurrirá a recursos didácticos ba
 sados en la competición y el juego. Se explicará a los asistentes los di
 stintos tipos de etiquetas de sostenibilidad y su significado.\n\nINFORMAC
 IÓN Y RESERVAS: cesar.sahelices@unileon.es (987291000-5009)\nORGANIZA: Un
 iversidad de León\nDIRIGIDO A: Estudiantes de cualquier nivel de enseñan
 za\n\n&nbsp\;\n\nUBICACIÓN: Facultad de Ciencias Económicas y Empresaria
 les (i.LAB\, Planta Baja) Campus de Vegazana (León)
CATEGORIES:Estudiantes de ESO, Bachillerato, Ciclos Formativos,Público
 Universitario
LOCATION:Universidad de León\, Campus de Vegazana\, s/n\, León\, León\, 
 24071\, España
GEO:42.612619;-5.560283
X-APPLE-STRUCTURED-LOCATION;VALUE=URI;X-ADDRESS=Campus de Vegazana\, s/n\, 
 León\, León\, 24071\, España;X-APPLE-RADIUS=100;X-TITLE=Universidad de 
 León:geo:42.612619,-5.560283
END:VEVENT
BEGIN:VTIMEZONE
TZID:Europe/Madrid
X-LIC-LOCATION:Europe/Madrid
BEGIN:STANDARD
DTSTART:20231029T020000
TZOFFSETFROM:+0200
TZOFFSETTO:+0100
TZNAME:CET
END:STANDARD
END:VTIMEZONE
END:VCALENDAR