BEGIN:VCALENDAR
VERSION:2.0
PRODID:-//wp-events-plugin.com//6.6.1//EN
TZID:Europe/Madrid
X-WR-TIMEZONE:Europe/Madrid
BEGIN:VEVENT
UID:20583@semanadelacienciacyl.accionlab.net
DTSTART;TZID=Europe/Madrid:20231117T120000
DTEND;TZID=Europe/Madrid:20231117T140000
DTSTAMP:20231107T130359Z
URL:https://semanadelacienciacyl.accionlab.net/events/escapa-del-ruido-2/
SUMMARY:Escapa del ruido
DESCRIPTION:Escapa del ruido es una actividad de gamificación diseñada pa
 ra sensibilizar\, desde edades tempranas\, sobre los problemas que origina
  el ruido y los efectos que produce. Necesario papel y lapicero o bolígra
 fo para participar.\n\nINFORMACIÓN Y RESERVAS: Escuela de Ingenierías In
 dustriales de la Universidad de Valladolid\nORGANIZA: Escuela de Ingenier
 ías Industriales de la Universidad de Valladolid\nDIRIGIDO A:Estudiantes 
 de ESO\, Bachillerato y Formación Profesional\n\n&nbsp\;
CATEGORIES:Estudiantes de ESO, Bachillerato, Ciclos Formativos
LOCATION:Escuela de Ingenierías Industriales. Sede Paseo del Cauce\, P.º 
 del Cauce\, 59\, Valladolid\, Valladolid\, 47011 \, España
GEO:41.657142;-4.710213
X-APPLE-STRUCTURED-LOCATION;VALUE=URI;X-ADDRESS=P.º del Cauce\, 59\, Valla
 dolid\, Valladolid\, 47011 \, España;X-APPLE-RADIUS=100;X-TITLE=Escuela d
 e Ingenierías Industriales. Sede Paseo del Cauce:geo:41.657142,-4.710213
END:VEVENT
BEGIN:VTIMEZONE
TZID:Europe/Madrid
X-LIC-LOCATION:Europe/Madrid
BEGIN:STANDARD
DTSTART:20231029T020000
TZOFFSETFROM:+0200
TZOFFSETTO:+0100
TZNAME:CET
END:STANDARD
END:VTIMEZONE
END:VCALENDAR