BEGIN:VCALENDAR
VERSION:2.0
PRODID:-//wp-events-plugin.com//6.6.1//EN
TZID:Europe/Madrid
X-WR-TIMEZONE:Europe/Madrid
BEGIN:VEVENT
UID:20720@semanadelacienciacyl.accionlab.net
DTSTART;TZID=Europe/Madrid:20231116T193000
DTEND;TZID=Europe/Madrid:20231116T210000
DTSTAMP:20231101T221200Z
URL:https://semanadelacienciacyl.accionlab.net/events/edicion-genetica-des
 afios/
SUMMARY:Edición genética: Desafíos
DESCRIPTION:La edición genética está muy presente en la actualidad: ¿A 
 qué se enfrenta\, y a qué nos enfrentamos?\n\nINFORMACIÓN Y RESERVAS:\n
 \n\n\nEdición genética: Desafíos Entradas\, Jue\, 16 nov. 2023 a las 19
 :30 | Eventbrite\n\n\n\nORGANIZA: Asociación Hespérides y Ayuntamiento d
 e El Espinar\nDIRIGIDO A: Público general.
CATEGORIES:Público General
LOCATION:Ayuntamiento El Espinar\, Plaza de la Constitución\, 1\, El Espin
 ar\, Segovia\, 40400\, Castilla y León\, España
GEO:40.718602;-4.247963
X-APPLE-STRUCTURED-LOCATION;VALUE=URI;X-ADDRESS=Plaza de la Constitución\,
  1\, El Espinar\, Segovia\, 40400\, Castilla y León\, España;X-APPLE-RAD
 IUS=100;X-TITLE=Ayuntamiento El Espinar:geo:40.718602,-4.247963
END:VEVENT
BEGIN:VTIMEZONE
TZID:Europe/Madrid
X-LIC-LOCATION:Europe/Madrid
BEGIN:STANDARD
DTSTART:20231029T020000
TZOFFSETFROM:+0200
TZOFFSETTO:+0100
TZNAME:CET
END:STANDARD
END:VTIMEZONE
END:VCALENDAR