BEGIN:VCALENDAR
VERSION:2.0
PRODID:-//wp-events-plugin.com//6.6.1//EN
TZID:Europe/Madrid
X-WR-TIMEZONE:Europe/Madrid
BEGIN:VEVENT
UID:20485@semanadelacienciacyl.accionlab.net
DTSTART;TZID=Europe/Madrid:20231114T100000
DTEND;TZID=Europe/Madrid:20231114T110000
DTSTAMP:20231026T101549Z
URL:https://semanadelacienciacyl.accionlab.net/events/del-laboratorio-al-e
 stomago/
SUMMARY:Del Laboratorio al estómago
DESCRIPTION:Grupo de participantes ya cerrados\n\nINFORMACIÓN Y RESERVAS: 
 920251020\nORGANIZA: Universidad Católica de Ávila (UCAV)\nDIRIGIDO A: P
 úblico General\n\nModalidad online: https://onx.la/0f51b
CATEGORIES:Estudiantes de ESO, Bachillerato, Ciclos Formativos
LOCATION:Universidad Católica de Ávila\, Calle Canteros\, s/n \, Ávila\,
  Ávila\, España
GEO:40.664824;-4.700094
X-APPLE-STRUCTURED-LOCATION;VALUE=URI;X-ADDRESS=Calle Canteros\, s/n \, Áv
 ila\, Ávila\, España;X-APPLE-RADIUS=100;X-TITLE=Universidad Católica de
  Ávila:geo:40.664824,-4.700094
END:VEVENT
BEGIN:VTIMEZONE
TZID:Europe/Madrid
X-LIC-LOCATION:Europe/Madrid
BEGIN:STANDARD
DTSTART:20231029T020000
TZOFFSETFROM:+0200
TZOFFSETTO:+0100
TZNAME:CET
END:STANDARD
END:VTIMEZONE
END:VCALENDAR