BEGIN:VCALENDAR
VERSION:2.0
PRODID:-//wp-events-plugin.com//6.6.1//EN
TZID:Europe/Madrid
X-WR-TIMEZONE:Europe/Madrid
BEGIN:VEVENT
UID:20700@semanadelacienciacyl.accionlab.net
DTSTART;TZID=Europe/Madrid:20231115T180000
DTEND;TZID=Europe/Madrid:20231115T190000
DTSTAMP:20231031T143406Z
URL:https://semanadelacienciacyl.accionlab.net/events/cuantos-microorganis
 mos-hay-en-nuestros-objetos/
SUMMARY:¿Cuántos microorganismos hay en nuestros objetos?
DESCRIPTION:Taller práctico en el que se podrán conocer los microorganism
 os que podemos encontrar en los objetos y alimentos que utilizamos cada d
 ía.\n\nINFORMACIÓN Y RESERVAS: crodm@unileon.es\nORGANIZA: Universidad d
 e León\nDIRIGIDO A: Público general
CATEGORIES:Público General
LOCATION:Instituto de Ciencia y Tecnología de los Alimentos (ICTAL-León)\
 , Calle La Serna\, Nº58\, León\, León\, 24007\, España
GEO:42.608911;-5.555624
X-APPLE-STRUCTURED-LOCATION;VALUE=URI;X-ADDRESS=Calle La Serna\, Nº58\, Le
 ón\, León\, 24007\, España;X-APPLE-RADIUS=100;X-TITLE=Instituto de Cien
 cia y Tecnología de los Alimentos (ICTAL-León):geo:42.608911,-5.555624
END:VEVENT
BEGIN:VTIMEZONE
TZID:Europe/Madrid
X-LIC-LOCATION:Europe/Madrid
BEGIN:STANDARD
DTSTART:20231029T020000
TZOFFSETFROM:+0200
TZOFFSETTO:+0100
TZNAME:CET
END:STANDARD
END:VTIMEZONE
END:VCALENDAR