BEGIN:VCALENDAR
VERSION:2.0
PRODID:-//wp-events-plugin.com//6.6.1//EN
TZID:Europe/Madrid
X-WR-TIMEZONE:Europe/Madrid
BEGIN:VEVENT
UID:20760@semanadelacienciacyl.accionlab.net
DTSTART;TZID=Europe/Madrid:20231117T120000
DTEND;TZID=Europe/Madrid:20231117T140000
DTSTAMP:20231107T121708Z
URL:https://semanadelacienciacyl.accionlab.net/events/ciencia-recreativa-2
 /
SUMMARY:Ciencia recreativa
DESCRIPTION:Mediante experimentos sencillos y asequibles\, profundizaremos 
 en nuestro conocimiento de la Ciencia.\n\nINFORMACIÓN Y RESERVAS: soria@p
 arquecientifico.uva.es\nORGANIZA: Universidad de Valladolid. EIFAB\nDIRIGI
 DO A: Estudiantes de ESO\, Bachillerato y Formación Profesional
CATEGORIES:Estudiantes de ESO, Bachillerato, Ciclos Formativos
LOCATION:Salón de Actos Campus Duques de Soria\, Calle Universidad\, Soria
 \, Soria\, 42004\, España
GEO:41.754047;-2.470277
X-APPLE-STRUCTURED-LOCATION;VALUE=URI;X-ADDRESS=Calle Universidad\, Soria\,
  Soria\, 42004\, España;X-APPLE-RADIUS=100;X-TITLE=Salón de Actos Campus
  Duques de Soria:geo:41.754047,-2.470277
END:VEVENT
BEGIN:VTIMEZONE
TZID:Europe/Madrid
X-LIC-LOCATION:Europe/Madrid
BEGIN:STANDARD
DTSTART:20231029T020000
TZOFFSETFROM:+0200
TZOFFSETTO:+0100
TZNAME:CET
END:STANDARD
END:VTIMEZONE
END:VCALENDAR